BEGIN:VCALENDAR
VERSION:2.0
PRODID:-//Victorian Association of TAFE Libraries - ECPv5.0.2.1//NONSGML v1.0//EN
CALSCALE:GREGORIAN
METHOD:PUBLISH
X-WR-CALNAME:Victorian Association of TAFE Libraries
X-ORIGINAL-URL:http://www.vatl.org.au/wp
X-WR-CALDESC:Events for Victorian Association of TAFE Libraries
BEGIN:VTIMEZONE
TZID:Australia/Melbourne
BEGIN:STANDARD
TZOFFSETFROM:+1100
TZOFFSETTO:+1000
TZNAME:AEST
DTSTART:20200404T160000
END:STANDARD
BEGIN:DAYLIGHT
TZOFFSETFROM:+1000
TZOFFSETTO:+1100
TZNAME:AEDT
DTSTART:20201003T160000
END:DAYLIGHT
END:VTIMEZONE
BEGIN:VEVENT
DTSTART;TZID=Australia/Melbourne:20200731T090000
DTEND;TZID=Australia/Melbourne:20200731T153000
DTSTAMP:20200301T102827
CREATED:20200228T011759Z
LAST-MODIFIED:20200228T011759Z
UID:929-1596186000-1596209400@www.vatl.org.au
SUMMARY:CASS Workshop 2
DESCRIPTION:Save the date – more details to come \n
URL:http://www.vatl.org.au/wp/event/cass-workshop-2/
LOCATION:William Angliss
END:VEVENT
END:VCALENDAR